BEGIN:VCALENDAR
VERSION:2.0
PRODID:-//Key West Historic Seaport - ECPv6.15.10//NONSGML v1.0//EN
CALSCALE:GREGORIAN
METHOD:PUBLISH
X-ORIGINAL-URL:https://keywesthistoricseaport.com
X-WR-CALDESC:Events for Key West Historic Seaport
REFRESH-INTERVAL;VALUE=DURATION:PT1H
X-Robots-Tag:noindex
X-PUBLISHED-TTL:PT1H
BEGIN:VTIMEZONE
TZID:America/New_York
BEGIN:DAYLIGHT
TZOFFSETFROM:-0500
TZOFFSETTO:-0400
TZNAME:EDT
DTSTART:20150308T070000
END:DAYLIGHT
BEGIN:STANDARD
TZOFFSETFROM:-0400
TZOFFSETTO:-0500
TZNAME:EST
DTSTART:20151101T060000
END:STANDARD
BEGIN:DAYLIGHT
TZOFFSETFROM:-0500
TZOFFSETTO:-0400
TZNAME:EDT
DTSTART:20160313T070000
END:DAYLIGHT
BEGIN:STANDARD
TZOFFSETFROM:-0400
TZOFFSETTO:-0500
TZNAME:EST
DTSTART:20161106T060000
END:STANDARD
BEGIN:DAYLIGHT
TZOFFSETFROM:-0500
TZOFFSETTO:-0400
TZNAME:EDT
DTSTART:20170312T070000
END:DAYLIGHT
BEGIN:STANDARD
TZOFFSETFROM:-0400
TZOFFSETTO:-0500
TZNAME:EST
DTSTART:20171105T060000
END:STANDARD
END:VTIMEZONE
BEGIN:VEVENT
DTSTART;TZID=America/New_York:20161125T180000
DTEND;TZID=America/New_York:20161220T235500
DTSTAMP:20260420T110449
CREATED:20161005T065358Z
LAST-MODIFIED:20161005T065657Z
UID:2495-1480096800-1482278100@keywesthistoricseaport.com
SUMMARY:Key West "Bight" Before Christmas
DESCRIPTION:Check back for details on: \n\nLighting of the Key West “Harbor Walk of Lights”\nKey West City Hometown Holiday Parade\n\nPet Pictures with Santa\nSchooner Wharf Bar & Galley 25th annual Key West Lighted Boat Parade\nSebago Lighted Boat Parade Cruise at Sebago Schooner Appledore II\nLighted Boat Parade\n\nMoonlit Holiday Jam – “Violins in Motion” children’s group\n\nCollecting donations for JDRF and Juvenile Diabetes Research & unwrapped toys for the Domestic Abuse Shelter\n\nHoliday Classic Car Show\n\n\n \n  \n 
URL:https://keywesthistoricseaport.com/event/key-west-bight-before-christmas/
CATEGORIES:listed
ATTACH;FMTTYPE=image/jpeg:https://keywesthistoricseaport.com/wp-content/uploads/2016/10/2016-01-HistoricSeaport00001-xmas-e1475636088879.jpg
END:VEVENT
BEGIN:VEVENT
DTSTART;TZID=America/New_York:20161214T130000
DTEND;TZID=America/New_York:20161214T185500
DTSTAMP:20260420T110449
CREATED:20160827T014321Z
LAST-MODIFIED:20161214T015306Z
UID:1852-1481720400-1481741700@keywesthistoricseaport.com
SUMMARY:Captains' Meeting & Galley Lighted Boat Parade
DESCRIPTION:Schooner Wharf Bar & Galley Lighted Boat Parade — set to sail into our southernmost city’s Key West Bight and Harbor! \nThe holiday season in Key West is decidedly different than it is in northern climes. Take Schooner Wharf Bar & Galley Lighted Boat Parade — set to sail into our southernmost city’s Key West Bight and Harbor on Wednesday\, December 14th at 8:00 pm. For Key West and the Florida Keys\, it’s a tropical tribute to the season and a big family affair. Parade participants and spectators on the docks watching the parade feel as if they are part of one big family. \nThe captains’ meeting is on Friday\, Dec. 9th at 8 p.m. at Schooner Wharf’s upper deck. For more information\, please contact Schooner Wharf Bar at (305) 292-3302. \n2016 Lighted Boat Parade Registration Form (Click for printable entry form) – Coming Soon.
URL:https://keywesthistoricseaport.com/event/captains-meeting-schooner-wharf-bar-galley-lighted-boat-parade/
LOCATION:Schooner Wharf Bar\, 202 William St\, Key West\, FL\, 33040\, United States
CATEGORIES:listed
ATTACH;FMTTYPE=image/jpeg:https://keywesthistoricseaport.com/wp-content/uploads/2016/08/2015-Lighted-Parde-Schooner-Wharf-Bar.jpg
END:VEVENT
END:VCALENDAR