BEGIN:VCALENDAR
VERSION:2.0
PRODID:-//Key West Historic Seaport - ECPv6.15.10//NONSGML v1.0//EN
CALSCALE:GREGORIAN
METHOD:PUBLISH
X-WR-CALNAME:Key West Historic Seaport
X-ORIGINAL-URL:https://keywesthistoricseaport.com
X-WR-CALDESC:Events for Key West Historic Seaport
REFRESH-INTERVAL;VALUE=DURATION:PT1H
X-Robots-Tag:noindex
X-PUBLISHED-TTL:PT1H
BEGIN:VTIMEZONE
TZID:America/New_York
BEGIN:DAYLIGHT
TZOFFSETFROM:-0500
TZOFFSETTO:-0400
TZNAME:EDT
DTSTART:20160313T070000
END:DAYLIGHT
BEGIN:STANDARD
TZOFFSETFROM:-0400
TZOFFSETTO:-0500
TZNAME:EST
DTSTART:20161106T060000
END:STANDARD
BEGIN:DAYLIGHT
TZOFFSETFROM:-0500
TZOFFSETTO:-0400
TZNAME:EDT
DTSTART:20170312T070000
END:DAYLIGHT
BEGIN:STANDARD
TZOFFSETFROM:-0400
TZOFFSETTO:-0500
TZNAME:EST
DTSTART:20171105T060000
END:STANDARD
BEGIN:DAYLIGHT
TZOFFSETFROM:-0500
TZOFFSETTO:-0400
TZNAME:EDT
DTSTART:20180311T070000
END:DAYLIGHT
BEGIN:STANDARD
TZOFFSETFROM:-0400
TZOFFSETTO:-0500
TZNAME:EST
DTSTART:20181104T060000
END:STANDARD
END:VTIMEZONE
BEGIN:VEVENT
DTSTART;TZID=America/New_York:20170115T090000
DTEND;TZID=America/New_York:20170121T210000
DTSTAMP:20260420T110403
CREATED:20170113T001203Z
LAST-MODIFIED:20170113T005536Z
UID:2912-1484470800-1485032400@keywesthistoricseaport.com
SUMMARY:Quantum Key West Race Week 2017
DESCRIPTION:  \n \n  \nQuantum Key West Race Week is celebrating its 30th anniversary and shows off fleet of more than 100 boats shows great strength throughout its ranks. \nThe fleet includes glamour classes like the 52 Super Series\, featuring top professional sailors such as Ed Baird\, John Kostecki\, Terry Hutchinson\, all past winners of the Rolex Yachtsman of the Year award\, and past Italian America’s Cup helmsman Vasco Vascotto. \nThe wildly popular J/70 Class is the largest at the event with 40 of the 23-footers entered this year. The design’s larger sibling\, the 36-foot J/111\, begins a season long march towards the class’s world championship in September. \nORC is the featured rating rule with nine boats entered\, and classes such as the C&C 30 One-Design\, Melges 24 and J/88 enhance the competitive nature of the race week fleet. ORC is also being used to rate boats in the Performance Cruising Class that is competing for its second consecutive year\, and there are two entries in the Multihull Class. \nWhile the racing at the 30th anniversary Quantum Key West Race Week will look and feel very similar to the past 29 editions\, the shoreside venue will be much different. The Waterfront Brewery in the Key West Historic Seaport and Bight will host all shoreside activities related to Race Week\, including daily morning weather briefings\, post-race seminars\, and the nightly awards party. \nFor more information visit https://keywestraceweek.com \n\nPhoto Credit: Sara Proctor
URL:https://keywesthistoricseaport.com/event/key-west-race-week-2017/
LOCATION:Waterfront Brewery\, 201 William St\, Key West\, FL\, 33040\, United States
CATEGORIES:listed
ATTACH;FMTTYPE=image/jpeg:https://keywesthistoricseaport.com/wp-content/uploads/2017/01/Sara-Proctor-Quantum-.jpg
END:VEVENT
END:VCALENDAR