BEGIN:VCALENDAR
VERSION:2.0
PRODID:-//Key West Historic Seaport - ECPv6.15.10//NONSGML v1.0//EN
CALSCALE:GREGORIAN
METHOD:PUBLISH
X-ORIGINAL-URL:https://keywesthistoricseaport.com
X-WR-CALDESC:Events for Key West Historic Seaport
REFRESH-INTERVAL;VALUE=DURATION:PT1H
X-Robots-Tag:noindex
X-PUBLISHED-TTL:PT1H
BEGIN:VTIMEZONE
TZID:America/New_York
BEGIN:DAYLIGHT
TZOFFSETFROM:-0500
TZOFFSETTO:-0400
TZNAME:EDT
DTSTART:20160313T070000
END:DAYLIGHT
BEGIN:STANDARD
TZOFFSETFROM:-0400
TZOFFSETTO:-0500
TZNAME:EST
DTSTART:20161106T060000
END:STANDARD
BEGIN:DAYLIGHT
TZOFFSETFROM:-0500
TZOFFSETTO:-0400
TZNAME:EDT
DTSTART:20170312T070000
END:DAYLIGHT
BEGIN:STANDARD
TZOFFSETFROM:-0400
TZOFFSETTO:-0500
TZNAME:EST
DTSTART:20171105T060000
END:STANDARD
BEGIN:DAYLIGHT
TZOFFSETFROM:-0500
TZOFFSETTO:-0400
TZNAME:EDT
DTSTART:20180311T070000
END:DAYLIGHT
BEGIN:STANDARD
TZOFFSETFROM:-0400
TZOFFSETTO:-0500
TZNAME:EST
DTSTART:20181104T060000
END:STANDARD
END:VTIMEZONE
BEGIN:VEVENT
DTSTART;VALUE=DATE:20170427
DTEND;VALUE=DATE:20170501
DTSTAMP:20260420T141653
CREATED:20170405T163814Z
LAST-MODIFIED:20170405T164327Z
UID:3369-1493251200-1493596799@keywesthistoricseaport.com
SUMMARY:20th Annual Key West Paddle Classic
DESCRIPTION:  \nJoin in on this weekend of fun at the 20th Annual Key West Paddle Classic and paddle around the island with your friends and fellow SUP athletes! \nEvents include relay races\, paddle technique clinic\, 12-mile circumnavigation of Key West\, sprint races\, kids SUP clinic and race and more! \nRegister here
URL:https://keywesthistoricseaport.com/event/20th-annual-key-west-paddle-classic/
LOCATION:Lazy Dog Adventures\, 5114 Overseas Hwy\, Key West\, FL\, 33040\, United States
CATEGORIES:listed
ATTACH;FMTTYPE=image/png:https://keywesthistoricseaport.com/wp-content/uploads/2017/04/Screen-Shot-2017-04-05-at-12.18.35-PM.png
END:VEVENT
BEGIN:VEVENT
DTSTART;VALUE=DATE:20170429
DTEND;VALUE=DATE:20170430
DTSTAMP:20260420T141654
CREATED:20170405T191522Z
LAST-MODIFIED:20170418T181148Z
UID:3394-1493424000-1493510399@keywesthistoricseaport.com
SUMMARY:Conch Republic Independence Day Celebration Pirates' Ball
DESCRIPTION:Long Live the Conch Republic!  \nJoin in on the fun with Schooner Wharf Bar at its annual Pirates Ball and Pig Roast! The popular annual succulent pig roast with all the fixins’ will be served up by the galley crew in addition to regular menu items. \nThe Yo Ho Ho-ing begins with the Pirates’ Costume Contest\, with prizes for Best Wench\, Best Buccaneer\, Best Bustier\, and Cutthroat Surprise. \n \nLive music: The Sushi Roll Band 
URL:https://keywesthistoricseaport.com/event/conch-republic-independence-day-celebration-pirates-ball-pig-roast-and-pirate-costume-competition/
LOCATION:Schooner Wharf Bar\, 202 William St\, Key West\, FL\, 33040\, United States
CATEGORIES:listed
ATTACH;FMTTYPE=image/png:https://keywesthistoricseaport.com/wp-content/uploads/2017/04/Untitled-design-28.png
END:VEVENT
END:VCALENDAR