BEGIN:VCALENDAR
VERSION:2.0
PRODID:-//Key West Historic Seaport - ECPv6.15.10//NONSGML v1.0//EN
CALSCALE:GREGORIAN
METHOD:PUBLISH
X-ORIGINAL-URL:https://keywesthistoricseaport.com
X-WR-CALDESC:Events for Key West Historic Seaport
REFRESH-INTERVAL;VALUE=DURATION:PT1H
X-Robots-Tag:noindex
X-PUBLISHED-TTL:PT1H
BEGIN:VTIMEZONE
TZID:America/New_York
BEGIN:DAYLIGHT
TZOFFSETFROM:-0500
TZOFFSETTO:-0400
TZNAME:EDT
DTSTART:20170312T070000
END:DAYLIGHT
BEGIN:STANDARD
TZOFFSETFROM:-0400
TZOFFSETTO:-0500
TZNAME:EST
DTSTART:20171105T060000
END:STANDARD
BEGIN:DAYLIGHT
TZOFFSETFROM:-0500
TZOFFSETTO:-0400
TZNAME:EDT
DTSTART:20180311T070000
END:DAYLIGHT
BEGIN:STANDARD
TZOFFSETFROM:-0400
TZOFFSETTO:-0500
TZNAME:EST
DTSTART:20181104T060000
END:STANDARD
BEGIN:DAYLIGHT
TZOFFSETFROM:-0500
TZOFFSETTO:-0400
TZNAME:EDT
DTSTART:20190310T070000
END:DAYLIGHT
BEGIN:STANDARD
TZOFFSETFROM:-0400
TZOFFSETTO:-0500
TZNAME:EST
DTSTART:20191103T060000
END:STANDARD
END:VTIMEZONE
BEGIN:VEVENT
DTSTART;VALUE=DATE:20180622
DTEND;VALUE=DATE:20180625
DTSTAMP:20260421T143101
CREATED:20180328T204509Z
LAST-MODIFIED:20180328T204546Z
UID:4347-1529625600-1529884799@keywesthistoricseaport.com
SUMMARY:5th Annual Key West Mystery Fest
DESCRIPTION:The 5th Annual Key West Mystery Fest is an event where readers can chat with their favorite mystery writers\,  have their book signed\, and participate in workshops\, presentations\, and panels where bestselling authors discuss their work. \nA few of this year’s headliners include Ace Atkins\, Otto Penzler and Heather Graham. \nSchedule of Events \nRegister Here \nPress: \n“New York Times” Bestselling Author Ace Atkins to Headline Mystery Fest Key west 2018 in June – Registration is now open
URL:https://keywesthistoricseaport.com/event/5th-annual-key-west-mystery-fest/
CATEGORIES:listed
ATTACH;FMTTYPE=image/jpeg:https://keywesthistoricseaport.com/wp-content/uploads/2018/03/events-header.jpg
END:VEVENT
END:VCALENDAR