BEGIN:VCALENDAR
VERSION:2.0
PRODID:-//Key West Historic Seaport - ECPv6.15.10//NONSGML v1.0//EN
CALSCALE:GREGORIAN
METHOD:PUBLISH
X-WR-CALNAME:Key West Historic Seaport
X-ORIGINAL-URL:https://keywesthistoricseaport.com
X-WR-CALDESC:Events for Key West Historic Seaport
REFRESH-INTERVAL;VALUE=DURATION:PT1H
X-Robots-Tag:noindex
X-PUBLISHED-TTL:PT1H
BEGIN:VTIMEZONE
TZID:America/New_York
BEGIN:DAYLIGHT
TZOFFSETFROM:-0500
TZOFFSETTO:-0400
TZNAME:EDT
DTSTART:20170312T070000
END:DAYLIGHT
BEGIN:STANDARD
TZOFFSETFROM:-0400
TZOFFSETTO:-0500
TZNAME:EST
DTSTART:20171105T060000
END:STANDARD
BEGIN:DAYLIGHT
TZOFFSETFROM:-0500
TZOFFSETTO:-0400
TZNAME:EDT
DTSTART:20180311T070000
END:DAYLIGHT
BEGIN:STANDARD
TZOFFSETFROM:-0400
TZOFFSETTO:-0500
TZNAME:EST
DTSTART:20181104T060000
END:STANDARD
BEGIN:DAYLIGHT
TZOFFSETFROM:-0500
TZOFFSETTO:-0400
TZNAME:EDT
DTSTART:20190310T070000
END:DAYLIGHT
BEGIN:STANDARD
TZOFFSETFROM:-0400
TZOFFSETTO:-0500
TZNAME:EST
DTSTART:20191103T060000
END:STANDARD
END:VTIMEZONE
BEGIN:VEVENT
DTSTART;VALUE=DATE:20180721
DTEND;VALUE=DATE:20180722
DTSTAMP:20260421T160608
CREATED:20180607T174355Z
LAST-MODIFIED:20180702T163437Z
UID:4491-1532131200-1532217599@keywesthistoricseaport.com
SUMMARY:Hemingway 5K Sunset Run & Paddleboard Race
DESCRIPTION:As part of Hemingway Days\, a six-day event that commemorates the life of Ernest Hemingway who lived and wrote in Key West during the 1930s\, runners walkers and anyone who loves to paddle board will have the opportunity to test their skills. \nParticipants will have to paddle a 3-mile ocean course beginning at 5:30 p.m. The 5K run/walk will kick off at 7:30 p.m. \nCompetitors can enjoy a post-race awards party with food and raffles at the Southernmost Beach Café. \nPaddleboard awards will be given to the first- through 10th-place male and female finishers. In the 5K\, awards will be given to the top three male and female overall finishers\, top three male and female masters\, and top three male and female finishers in age categories ranging from 9 and under to 75 and over.  \nRegister Online \n[fusion_vimeo id=”211730143″ alignment=”center” width=”” height=”” autoplay=”false” api_params=”” hide_on_mobile=”small-visibility\,medium-visibility\,large-visibility” class=””][/fusion_vimeo]\nPhoto/Video Credit: keywesthalfmarathon.com/hemingway-event-details\n 
URL:https://keywesthistoricseaport.com/event/hemingway-5k-sunset-run-paddleboard-race/
ATTACH;FMTTYPE=image/png:https://keywesthistoricseaport.com/wp-content/uploads/2018/06/Screen-Shot-2018-06-07-at-1.28.09-PM.png
END:VEVENT
END:VCALENDAR