BEGIN:VCALENDAR
VERSION:2.0
PRODID:-//Key West Historic Seaport - ECPv6.15.10//NONSGML v1.0//EN
CALSCALE:GREGORIAN
METHOD:PUBLISH
X-WR-CALNAME:Key West Historic Seaport
X-ORIGINAL-URL:https://keywesthistoricseaport.com
X-WR-CALDESC:Events for Key West Historic Seaport
REFRESH-INTERVAL;VALUE=DURATION:PT1H
X-Robots-Tag:noindex
X-PUBLISHED-TTL:PT1H
BEGIN:VTIMEZONE
TZID:America/New_York
BEGIN:DAYLIGHT
TZOFFSETFROM:-0500
TZOFFSETTO:-0400
TZNAME:EDT
DTSTART:20170312T070000
END:DAYLIGHT
BEGIN:STANDARD
TZOFFSETFROM:-0400
TZOFFSETTO:-0500
TZNAME:EST
DTSTART:20171105T060000
END:STANDARD
BEGIN:DAYLIGHT
TZOFFSETFROM:-0500
TZOFFSETTO:-0400
TZNAME:EDT
DTSTART:20180311T070000
END:DAYLIGHT
BEGIN:STANDARD
TZOFFSETFROM:-0400
TZOFFSETTO:-0500
TZNAME:EST
DTSTART:20181104T060000
END:STANDARD
BEGIN:DAYLIGHT
TZOFFSETFROM:-0500
TZOFFSETTO:-0400
TZNAME:EDT
DTSTART:20190310T070000
END:DAYLIGHT
BEGIN:STANDARD
TZOFFSETFROM:-0400
TZOFFSETTO:-0500
TZNAME:EST
DTSTART:20191103T060000
END:STANDARD
END:VTIMEZONE
BEGIN:VEVENT
DTSTART;VALUE=DATE:20180809
DTEND;VALUE=DATE:20180813
DTSTAMP:20260421T221603
CREATED:20180105T204220Z
LAST-MODIFIED:20180607T170815Z
UID:4118-1533772800-1534118399@keywesthistoricseaport.com
SUMMARY:22nd Annual Key West Lobsterfest
DESCRIPTION:Calling all lobster lovers! The beginning of lobster season is approaching so celebrate at the biggest party of the summer. \nEvents include a lobster boil\, street fair with arts\, crafts\, merchandise\, and lots of lobster\, a free concert\, and a lobster brunch to conclude the festival. \nEvent Schedule 
URL:https://keywesthistoricseaport.com/event/key-west-lobsterfest/
ATTACH;FMTTYPE=image/png:https://keywesthistoricseaport.com/wp-content/uploads/2017/05/Untitled-design-31.png
END:VEVENT
END:VCALENDAR