BEGIN:VCALENDAR
VERSION:2.0
PRODID:-//Key West Historic Seaport - ECPv6.15.10//NONSGML v1.0//EN
CALSCALE:GREGORIAN
METHOD:PUBLISH
X-ORIGINAL-URL:https://keywesthistoricseaport.com
X-WR-CALDESC:Events for Key West Historic Seaport
REFRESH-INTERVAL;VALUE=DURATION:PT1H
X-Robots-Tag:noindex
X-PUBLISHED-TTL:PT1H
BEGIN:VTIMEZONE
TZID:America/New_York
BEGIN:DAYLIGHT
TZOFFSETFROM:-0500
TZOFFSETTO:-0400
TZNAME:EDT
DTSTART:20170312T070000
END:DAYLIGHT
BEGIN:STANDARD
TZOFFSETFROM:-0400
TZOFFSETTO:-0500
TZNAME:EST
DTSTART:20171105T060000
END:STANDARD
BEGIN:DAYLIGHT
TZOFFSETFROM:-0500
TZOFFSETTO:-0400
TZNAME:EDT
DTSTART:20180311T070000
END:DAYLIGHT
BEGIN:STANDARD
TZOFFSETFROM:-0400
TZOFFSETTO:-0500
TZNAME:EST
DTSTART:20181104T060000
END:STANDARD
BEGIN:DAYLIGHT
TZOFFSETFROM:-0500
TZOFFSETTO:-0400
TZNAME:EDT
DTSTART:20190310T070000
END:DAYLIGHT
BEGIN:STANDARD
TZOFFSETFROM:-0400
TZOFFSETTO:-0500
TZNAME:EST
DTSTART:20191103T060000
END:STANDARD
END:VTIMEZONE
BEGIN:VEVENT
DTSTART;VALUE=DATE:20180905
DTEND;VALUE=DATE:20180910
DTSTAMP:20260422T070625
CREATED:20180409T174233Z
LAST-MODIFIED:20180409T174233Z
UID:4377-1536105600-1536537599@keywesthistoricseaport.com
SUMMARY:Key West Womenfest
DESCRIPTION:Thousands of singles\, couples and groups of women flock to Key West each year for this renowned celebration for lesbians and their friends. Activities generally include dance parties\, poolside gatherings\, sailing and snorkeling\, live music\, comedy performances and more! \nView event schedule here
URL:https://keywesthistoricseaport.com/event/key-west-womenfest/
ATTACH;FMTTYPE=image/jpeg:https://keywesthistoricseaport.com/wp-content/uploads/2017/07/womenfest.jpg
END:VEVENT
END:VCALENDAR