BEGIN:VCALENDAR
VERSION:2.0
PRODID:-//Key West Historic Seaport - ECPv6.15.10//NONSGML v1.0//EN
CALSCALE:GREGORIAN
METHOD:PUBLISH
X-WR-CALNAME:Key West Historic Seaport
X-ORIGINAL-URL:https://keywesthistoricseaport.com
X-WR-CALDESC:Events for Key West Historic Seaport
REFRESH-INTERVAL;VALUE=DURATION:PT1H
X-Robots-Tag:noindex
X-PUBLISHED-TTL:PT1H
BEGIN:VTIMEZONE
TZID:America/New_York
BEGIN:DAYLIGHT
TZOFFSETFROM:-0500
TZOFFSETTO:-0400
TZNAME:EDT
DTSTART:20220313T070000
END:DAYLIGHT
BEGIN:STANDARD
TZOFFSETFROM:-0400
TZOFFSETTO:-0500
TZNAME:EST
DTSTART:20221106T060000
END:STANDARD
BEGIN:DAYLIGHT
TZOFFSETFROM:-0500
TZOFFSETTO:-0400
TZNAME:EDT
DTSTART:20230312T070000
END:DAYLIGHT
BEGIN:STANDARD
TZOFFSETFROM:-0400
TZOFFSETTO:-0500
TZNAME:EST
DTSTART:20231105T060000
END:STANDARD
BEGIN:DAYLIGHT
TZOFFSETFROM:-0500
TZOFFSETTO:-0400
TZNAME:EDT
DTSTART:20240310T070000
END:DAYLIGHT
BEGIN:STANDARD
TZOFFSETFROM:-0400
TZOFFSETTO:-0500
TZNAME:EST
DTSTART:20241103T060000
END:STANDARD
END:VTIMEZONE
BEGIN:VEVENT
DTSTART;TZID=America/New_York:20230528T130000
DTEND;TZID=America/New_York:20230528T210000
DTSTAMP:20260423T022934
CREATED:20230501T195032Z
LAST-MODIFIED:20230504T203359Z
UID:7842-1685278800-1685307600@keywesthistoricseaport.com
SUMMARY:Annual Schooner Wharf Minimal Regatta
DESCRIPTION:  \n\n\n\n\n\nAnnual Schooner Wharf Minimal Regatta\nMay 28\, 2023\nPick up your entry form at Schooner Wharf Bar today! \nTo register and pay online\, please click here\n\n\n\n\n\n\n\nCalling All Ship Wrights \nMinimal Regatta Construction Rules\n1. One sheet of 4′ x 8′ x 1/4″ plywood\n2. Two 2″x 4″ 8′\n3. One pound of fasteners\n4. One roll of 2″ x 60 yard duct tape\n5. No caulking or adhesives – Epoxy paint is permitted\n6. Painting of boats is optional\n7. Oars/Paddles must be made out of these materials \nThere are two categories of “Minimal Vessels” Kayak/Canoe Design & Open Design\nCompetitors will win prizes in each design group for Fastest – 1st\, 2nd & 3rd Place\, Most Creative Designs – 1st & 2nd Place\, Best Paint Jobs\, Best Costumed Entries\, Sportsmanship Awards\, and Sinker Awards \nThe $20 entry fee will benefit our local VFW Post 3911 Veteran’s Relief fund for Monroe County. \nBoats made of thin plywood and duct tape don’t sound very seaworthy\, but they’re the only vessels allowed in the 31st annual Schooner Wharf Minimal Regatta\, expected to provide maximum merriment for spectators Sunday\, May 28. \nThe wacky Memorial Day Weekend regatta takes place off the Schooner Wharf Bar\, 202 William St.\, in the Key West Historic Seaport. A vessel inspection is set for 12:30 p.m. Sunday\, with the first heat around 1:30 p.m. \nEach team can use only the most minimal materials to build its boat — just a single sheet of 4-by-8-foot plywood\, two 8-foot-long two-by-fours\, a roll of duct tape and a pound of fasteners. Calking and adhesives are forbidden\, though epoxy paint is permitted. \nTeams are charged with keeping their homemade craft afloat long enough to complete a short course. Up to six members are allowed per team\, and at least one “designated passenger” must crew the vessel throughout the regatta. \nCostumes and themed entries are encouraged\, and many boats end up being more scenic than seaworthy. Entries in past regattas have included alligators\, spaceships\, guitars\, wine bottles and replicas of schooners\, shrimp boats\, pirate vessels and paddle boats! Costumes have ranged from the crew of Gilligan’s Island\, the Adams family\, Spock and Star Trek\, Batman & the Joker\, Barbie and her Dream House\, Banana Splits and Red Hot Chili Peppers and Popeye! \nMultiple prizes are to be awarded in categories including fastest boat\, most creative designs\, best paint jobs\, sportsmanship and best costumed entries. In addition\, organizers plan to present the disheartening “sinker” awards to the hapless teams unable to stay above water. \nAs well as regatta action\, Schooner Wharf Bar also plans to host its traditional Memorial Day weekend barbecue. Ya Gotta Regatta! \nEvent information: 305-292-9520
URL:https://keywesthistoricseaport.com/event/annual-schooner-wharf-minimal-regatta/
LOCATION:Schooner Wharf Bar\, 202 William St\, Key West\, FL\, 33040\, United States
ATTACH;FMTTYPE=image/jpeg:https://keywesthistoricseaport.com/wp-content/uploads/2023/05/2022-min-regatta-1.jpg
END:VEVENT
END:VCALENDAR