BEGIN:VCALENDAR
VERSION:2.0
PRODID:-//Key West Historic Seaport - ECPv6.15.10//NONSGML v1.0//EN
CALSCALE:GREGORIAN
METHOD:PUBLISH
X-WR-CALNAME:Key West Historic Seaport
X-ORIGINAL-URL:https://keywesthistoricseaport.com
X-WR-CALDESC:Events for Key West Historic Seaport
REFRESH-INTERVAL;VALUE=DURATION:PT1H
X-Robots-Tag:noindex
X-PUBLISHED-TTL:PT1H
BEGIN:VTIMEZONE
TZID:America/New_York
BEGIN:DAYLIGHT
TZOFFSETFROM:-0500
TZOFFSETTO:-0400
TZNAME:EDT
DTSTART:20170312T070000
END:DAYLIGHT
BEGIN:STANDARD
TZOFFSETFROM:-0400
TZOFFSETTO:-0500
TZNAME:EST
DTSTART:20171105T060000
END:STANDARD
BEGIN:DAYLIGHT
TZOFFSETFROM:-0500
TZOFFSETTO:-0400
TZNAME:EDT
DTSTART:20180311T070000
END:DAYLIGHT
BEGIN:STANDARD
TZOFFSETFROM:-0400
TZOFFSETTO:-0500
TZNAME:EST
DTSTART:20181104T060000
END:STANDARD
BEGIN:DAYLIGHT
TZOFFSETFROM:-0500
TZOFFSETTO:-0400
TZNAME:EDT
DTSTART:20190310T070000
END:DAYLIGHT
BEGIN:STANDARD
TZOFFSETFROM:-0400
TZOFFSETTO:-0500
TZNAME:EST
DTSTART:20191103T060000
END:STANDARD
END:VTIMEZONE
BEGIN:VEVENT
DTSTART;VALUE=DATE:20180606
DTEND;VALUE=DATE:20180611
DTSTAMP:20260421T074153
CREATED:20180105T181934Z
LAST-MODIFIED:20180105T193330Z
UID:4107-1528243200-1528675199@keywesthistoricseaport.com
SUMMARY:Key West Pride
DESCRIPTION:Key West is the place to show your PRIDE and have a great time! Bring your friends and family to celebrate in Key West and get lost in the magic. Enjoy shows\, pool parties\, pageants to select Mr.\, Miss and Ms. Key West Pride and so much more! For a full list of events\, check out the event schedule. \nEvent Schedule \nPride Parade Application Here \n-Images from keywestpride.org
URL:https://keywesthistoricseaport.com/event/key-west-pride-2/
ATTACH;FMTTYPE=image/jpeg:https://keywesthistoricseaport.com/wp-content/uploads/2017/06/Pride-Flag-2012-TDC-2.jpg
END:VEVENT
BEGIN:VEVENT
DTSTART;VALUE=DATE:20180622
DTEND;VALUE=DATE:20180625
DTSTAMP:20260421T074153
CREATED:20180328T204509Z
LAST-MODIFIED:20180328T204546Z
UID:4347-1529625600-1529884799@keywesthistoricseaport.com
SUMMARY:5th Annual Key West Mystery Fest
DESCRIPTION:The 5th Annual Key West Mystery Fest is an event where readers can chat with their favorite mystery writers\,  have their book signed\, and participate in workshops\, presentations\, and panels where bestselling authors discuss their work. \nA few of this year’s headliners include Ace Atkins\, Otto Penzler and Heather Graham. \nSchedule of Events \nRegister Here \nPress: \n“New York Times” Bestselling Author Ace Atkins to Headline Mystery Fest Key west 2018 in June – Registration is now open
URL:https://keywesthistoricseaport.com/event/5th-annual-key-west-mystery-fest/
CATEGORIES:listed
ATTACH;FMTTYPE=image/jpeg:https://keywesthistoricseaport.com/wp-content/uploads/2018/03/events-header.jpg
END:VEVENT
BEGIN:VEVENT
DTSTART;VALUE=DATE:20180630
DTEND;VALUE=DATE:20180705
DTSTAMP:20260421T074153
CREATED:20180105T203321Z
LAST-MODIFIED:20180105T203321Z
UID:4110-1530316800-1530748799@keywesthistoricseaport.com
SUMMARY:6th Annual Key Lime Festival
DESCRIPTION:  \nKey Lime Pie makes Key West unique\, along with the great people. This is a celebration you won’t want to miss so come on down to Key West this July! This four-day Key Lime event is packed with events to celebrate key lime! From a pie-eating contest to samples different pies\, you won’t want to miss any of the tasty events. \n  \n\n 
URL:https://keywesthistoricseaport.com/event/6th-annual-key-lime-festival/
ATTACH;FMTTYPE=image/jpeg:https://keywesthistoricseaport.com/wp-content/uploads/2017/06/201116_2930100.jpg
END:VEVENT
END:VCALENDAR