BEGIN:VCALENDAR
VERSION:2.0
PRODID:-//Key West Historic Seaport - ECPv6.15.10//NONSGML v1.0//EN
CALSCALE:GREGORIAN
METHOD:PUBLISH
X-ORIGINAL-URL:https://keywesthistoricseaport.com
X-WR-CALDESC:Events for Key West Historic Seaport
REFRESH-INTERVAL;VALUE=DURATION:PT1H
X-Robots-Tag:noindex
X-PUBLISHED-TTL:PT1H
BEGIN:VTIMEZONE
TZID:America/New_York
BEGIN:DAYLIGHT
TZOFFSETFROM:-0500
TZOFFSETTO:-0400
TZNAME:EDT
DTSTART:20220313T070000
END:DAYLIGHT
BEGIN:STANDARD
TZOFFSETFROM:-0400
TZOFFSETTO:-0500
TZNAME:EST
DTSTART:20221106T060000
END:STANDARD
BEGIN:DAYLIGHT
TZOFFSETFROM:-0500
TZOFFSETTO:-0400
TZNAME:EDT
DTSTART:20230312T070000
END:DAYLIGHT
BEGIN:STANDARD
TZOFFSETFROM:-0400
TZOFFSETTO:-0500
TZNAME:EST
DTSTART:20231105T060000
END:STANDARD
BEGIN:DAYLIGHT
TZOFFSETFROM:-0500
TZOFFSETTO:-0400
TZNAME:EDT
DTSTART:20240310T070000
END:DAYLIGHT
BEGIN:STANDARD
TZOFFSETFROM:-0400
TZOFFSETTO:-0500
TZNAME:EST
DTSTART:20241103T060000
END:STANDARD
END:VTIMEZONE
BEGIN:VEVENT
DTSTART;TZID=America/New_York:20231209T193000
DTEND;TZID=America/New_York:20231209T213000
DTSTAMP:20260425T131232
CREATED:20231108T184233Z
LAST-MODIFIED:20231108T185058Z
UID:8266-1702150200-1702157400@keywesthistoricseaport.com
SUMMARY:Schooner Appledore 2023 Lighted Boat Parade Party
DESCRIPTION:Saturday\, Dec. 9\nSchooner Appledore Lighted Boat Parade Party\n7:30pm – 9:30pm \nBe a participant in the 2023 The Lighted Parade aboard the Schooner Appledore II Parade Boat!\nTrip Includes: Premium beer\, boutique wines\, wines and soft drinks. Very Limited Seating! \nVisit https://keywestschooners.com/ for more information!
URL:https://keywesthistoricseaport.com/event/schooner-appledore-2023-lighted-boat-parade-party/
CATEGORIES:Holidays
ORGANIZER;CN="Schooner Appledore%2C 205 Elizabeth Street%2C Unit I Key West%2C FL 33040":MAILTO:resdesk@appledoreschooner.com
END:VEVENT
END:VCALENDAR