BEGIN:VCALENDAR
VERSION:2.0
PRODID:-//Key West Historic Seaport - ECPv6.15.10//NONSGML v1.0//EN
CALSCALE:GREGORIAN
METHOD:PUBLISH
X-ORIGINAL-URL:https://keywesthistoricseaport.com
X-WR-CALDESC:Events for Key West Historic Seaport
REFRESH-INTERVAL;VALUE=DURATION:PT1H
X-Robots-Tag:noindex
X-PUBLISHED-TTL:PT1H
BEGIN:VTIMEZONE
TZID:America/New_York
BEGIN:DAYLIGHT
TZOFFSETFROM:-0500
TZOFFSETTO:-0400
TZNAME:EDT
DTSTART:20240310T070000
END:DAYLIGHT
BEGIN:STANDARD
TZOFFSETFROM:-0400
TZOFFSETTO:-0500
TZNAME:EST
DTSTART:20241103T060000
END:STANDARD
BEGIN:DAYLIGHT
TZOFFSETFROM:-0500
TZOFFSETTO:-0400
TZNAME:EDT
DTSTART:20250309T070000
END:DAYLIGHT
BEGIN:STANDARD
TZOFFSETFROM:-0400
TZOFFSETTO:-0500
TZNAME:EST
DTSTART:20251102T060000
END:STANDARD
BEGIN:DAYLIGHT
TZOFFSETFROM:-0500
TZOFFSETTO:-0400
TZNAME:EDT
DTSTART:20260308T070000
END:DAYLIGHT
BEGIN:STANDARD
TZOFFSETFROM:-0400
TZOFFSETTO:-0500
TZNAME:EST
DTSTART:20261101T060000
END:STANDARD
END:VTIMEZONE
BEGIN:VEVENT
DTSTART;TZID=America/New_York:20251126T170000
DTEND;TZID=America/New_York:20251126T230000
DTSTAMP:20260419T104048
CREATED:20251021T154312Z
LAST-MODIFIED:20251022T202215Z
UID:9170-1764176400-1764198000@keywesthistoricseaport.com
SUMMARY:Bight Before Christmas Lighting of The Bight: Key West Harbor Walk of Lights 2025
DESCRIPTION:Wednesday\, Nov. 26 – Free\nThe Lighting of the 2025 “Harbor Walk of Lights”\nat the Key West Historic Seaport\nMain Harbor Walk Lighting at the 2025 “Fishing Buoy Christmas Tree”\nLights come on at 6:00pm – holiday music starts at 5:00pm – Greene and Elizabeth St. plaza.\nSanta and Mrs Clause will be making a NICE list and passing out treats! \nSECOND lighting of the 2025 “Lobster Trap Christmas Tree”\nLights come on at 7:00pm\, holiday music starts at 6:00pm – Margaret St. plaza (Old Lands End Village).\nThere will be holiday cookies and candy canes for the children! \nEnjoy creative holiday displays and thousands of lights honoring the “Maritime History of Key West”. \nWith 3 blocks of sparkling holiday lights and displays around the Key West Bight Marina and Historic Seaport\, the 2025 Key West “Harbor Walk of Lights” is destined to bring miles of holiday smiles to our One Human Family of visitors and locals alike. \nHarbor Walk of Lights is on every night from Thanksgiving eve through New Year’s eve! \nPlease join us at the “Lighting of the Harbor Walk” to kickoff the “Cheryl Cates Toy Drive”.\nBring a toy\, or toys will be available at the “Imagination Station” table to purchase and donate.\nALSO\, be there for a special announcement from the Cheryl Cates Toy Drive.
URL:https://keywesthistoricseaport.com/event/bight-before-christmas-lighting-of-the-bight-key-west-harbor-walk-of-lights-2025/
LOCATION:At the 16’ Nautical Christmas Tree on the Harbor Walk of Lights at William St.
ATTACH;FMTTYPE=image/png:https://keywesthistoricseaport.com/wp-content/uploads/2023/11/kwhstree.png
END:VEVENT
END:VCALENDAR