BEGIN:VCALENDAR
VERSION:2.0
PRODID:-//Key West Historic Seaport - ECPv6.15.10//NONSGML v1.0//EN
CALSCALE:GREGORIAN
METHOD:PUBLISH
X-WR-CALNAME:Key West Historic Seaport
X-ORIGINAL-URL:https://keywesthistoricseaport.com
X-WR-CALDESC:Events for Key West Historic Seaport
REFRESH-INTERVAL;VALUE=DURATION:PT1H
X-Robots-Tag:noindex
X-PUBLISHED-TTL:PT1H
BEGIN:VTIMEZONE
TZID:America/New_York
BEGIN:DAYLIGHT
TZOFFSETFROM:-0500
TZOFFSETTO:-0400
TZNAME:EDT
DTSTART:20190310T070000
END:DAYLIGHT
BEGIN:STANDARD
TZOFFSETFROM:-0400
TZOFFSETTO:-0500
TZNAME:EST
DTSTART:20191103T060000
END:STANDARD
BEGIN:DAYLIGHT
TZOFFSETFROM:-0500
TZOFFSETTO:-0400
TZNAME:EDT
DTSTART:20200308T070000
END:DAYLIGHT
BEGIN:STANDARD
TZOFFSETFROM:-0400
TZOFFSETTO:-0500
TZNAME:EST
DTSTART:20201101T060000
END:STANDARD
BEGIN:DAYLIGHT
TZOFFSETFROM:-0500
TZOFFSETTO:-0400
TZNAME:EDT
DTSTART:20210314T070000
END:DAYLIGHT
BEGIN:STANDARD
TZOFFSETFROM:-0400
TZOFFSETTO:-0500
TZNAME:EST
DTSTART:20211107T060000
END:STANDARD
END:VTIMEZONE
BEGIN:VEVENT
DTSTART;TZID=America/New_York:20200217T173000
DTEND;TZID=America/New_York:20200217T173000
DTSTAMP:20260419T094814
CREATED:20200107T200806Z
LAST-MODIFIED:20200107T200806Z
UID:5976-1581960600-1581960600@keywesthistoricseaport.com
SUMMARY:Willie Nelson At Key West Amphitheater
DESCRIPTION:  \nIn the course of his six-decade career\, Willie Nelson has achieved almost every music award imaginable and continues to thrive in almost everything he puts his mind to. In recent years\, Willie Nelson has put out more than a dozen new album and released a Top 10 New York Times’ bestsellers book. Starting at 7 PM on February\, the Key West Historic Seaport is extremely excited to announce that Mr. Willie Nelson himself will be performing live at the Key West Amphitheater. To purchase your ticket or for general information >> Click Here. \n  \n\n  \n 
URL:https://keywesthistoricseaport.com/event/willie-nelson-at-key-west-amphitheater/
LOCATION:Key West Historic Seaport
ATTACH;FMTTYPE=image/png:https://keywesthistoricseaport.com/wp-content/uploads/2020/01/Screen-Shot-2020-01-07-at-2.08.19-PM.png
END:VEVENT
END:VCALENDAR