BEGIN:VCALENDAR
VERSION:2.0
PRODID:-//Key West Historic Seaport - ECPv6.15.10//NONSGML v1.0//EN
CALSCALE:GREGORIAN
METHOD:PUBLISH
X-ORIGINAL-URL:https://keywesthistoricseaport.com
X-WR-CALDESC:Events for Key West Historic Seaport
REFRESH-INTERVAL;VALUE=DURATION:PT1H
X-Robots-Tag:noindex
X-PUBLISHED-TTL:PT1H
BEGIN:VTIMEZONE
TZID:America/New_York
BEGIN:DAYLIGHT
TZOFFSETFROM:-0500
TZOFFSETTO:-0400
TZNAME:EDT
DTSTART:20190310T070000
END:DAYLIGHT
BEGIN:STANDARD
TZOFFSETFROM:-0400
TZOFFSETTO:-0500
TZNAME:EST
DTSTART:20191103T060000
END:STANDARD
BEGIN:DAYLIGHT
TZOFFSETFROM:-0500
TZOFFSETTO:-0400
TZNAME:EDT
DTSTART:20200308T070000
END:DAYLIGHT
BEGIN:STANDARD
TZOFFSETFROM:-0400
TZOFFSETTO:-0500
TZNAME:EST
DTSTART:20201101T060000
END:STANDARD
BEGIN:DAYLIGHT
TZOFFSETFROM:-0500
TZOFFSETTO:-0400
TZNAME:EDT
DTSTART:20210314T070000
END:DAYLIGHT
BEGIN:STANDARD
TZOFFSETFROM:-0400
TZOFFSETTO:-0500
TZNAME:EST
DTSTART:20211107T060000
END:STANDARD
END:VTIMEZONE
BEGIN:VEVENT
DTSTART;TZID=America/New_York:20200330T080000
DTEND;TZID=America/New_York:20200430T170000
DTSTAMP:20260422T183051
CREATED:20200330T161013Z
LAST-MODIFIED:20200330T171528Z
UID:6182-1585555200-1588266000@keywesthistoricseaport.com
SUMMARY:Fisherman's Cafe is OPEN!
DESCRIPTION:Located right on Lazy Way Lane is the incredibly delicious Fisherman’s Cafe! Still offering their full menu and now offering takeout and delivery options from 8:30 AM to 5 PM\, stop by today for your very own taste of the Key West Historic Seaport. Order online and they will bring your food to you! Did we also mention NO delivery fee? \nTo place your order today\, CLICK HERE! 💙 \nDates Are Subject to Change *
URL:https://keywesthistoricseaport.com/event/fishermans-cafe-is-open/
LOCATION:Key West Historic Seaport
ATTACH;FMTTYPE=image/jpeg:https://keywesthistoricseaport.com/wp-content/uploads/2020/03/IMG_5451-1-scaled.jpg
END:VEVENT
END:VCALENDAR